BEGIN:VCALENDAR
VERSION:2.0
PRODID:-//NADI Felda Air Tawar 5 - ECPv6.15.13.1//NONSGML v1.0//EN
CALSCALE:GREGORIAN
METHOD:PUBLISH
X-WR-CALNAME:NADI Felda Air Tawar 5
X-ORIGINAL-URL:https://feldaairtawar5.nadi.my
X-WR-CALDESC:Events for NADI Felda Air Tawar 5
REFRESH-INTERVAL;VALUE=DURATION:PT1H
X-Robots-Tag:noindex
X-PUBLISHED-TTL:PT1H
BEGIN:VTIMEZONE
TZID:Asia/Kuala_Lumpur
BEGIN:STANDARD
TZOFFSETFROM:+0800
TZOFFSETTO:+0800
TZNAME:+08
DTSTART:20240101T000000
END:STANDARD
END:VTIMEZONE
BEGIN:VEVENT
DTSTART;TZID=Asia/Kuala_Lumpur:20251207T090000
DTEND;TZID=Asia/Kuala_Lumpur:20251207T180000
DTSTAMP:20260419T222310
CREATED:20251205T090517Z
LAST-MODIFIED:20251205T090517Z
UID:2352-1765098000-1765130400@feldaairtawar5.nadi.my
SUMMARY:English Proficiency Lesson 20
DESCRIPTION:
URL:https://feldaairtawar5.nadi.my/event/english-proficiency-lesson-20/
END:VEVENT
END:VCALENDAR