BEGIN:VCALENDAR
VERSION:2.0
PRODID:-//NADI Felda Air Tawar 5 - ECPv6.15.13.1//NONSGML v1.0//EN
CALSCALE:GREGORIAN
METHOD:PUBLISH
X-WR-CALNAME:NADI Felda Air Tawar 5
X-ORIGINAL-URL:https://feldaairtawar5.nadi.my
X-WR-CALDESC:Events for NADI Felda Air Tawar 5
REFRESH-INTERVAL;VALUE=DURATION:PT1H
X-Robots-Tag:noindex
X-PUBLISHED-TTL:PT1H
BEGIN:VTIMEZONE
TZID:Asia/Kuala_Lumpur
BEGIN:STANDARD
TZOFFSETFROM:+0800
TZOFFSETTO:+0800
TZNAME:+08
DTSTART:20240101T000000
END:STANDARD
END:VTIMEZONE
BEGIN:VEVENT
DTSTART;TZID=Asia/Kuala_Lumpur:20250619T153000
DTEND;TZID=Asia/Kuala_Lumpur:20250619T163000
DTSTAMP:20260425T102348
CREATED:20250604T063300Z
LAST-MODIFIED:20250604T063300Z
UID:1976-1750347000-1750350600@feldaairtawar5.nadi.my
SUMMARY:NADI DILEA (Live Class Sejarah)
DESCRIPTION:
URL:https://feldaairtawar5.nadi.my/event/nadi-dilea-live-class-sejarah/
END:VEVENT
END:VCALENDAR